BEGIN:VCALENDAR
VERSION:2.0
PRODID:-//89.116.147.57//NONSGML kigkonsult.se iCalcreator 2.20//
CALSCALE:GREGORIAN
METHOD:PUBLISH
X-WR-TIMEZONE:UTC
BEGIN:VEVENT
UID:event6@lissac09
DTSTAMP:20260423T141559Z
CATEGORIES:Manifestations diverses
DESCRIPTION:Marche du printemps\nCatégorie: Manifestations diverses\nLien: 
 https://lissac09.fr/index.php?option=com_jem&view=event&id=6:marche-du-pri
 ntemps\n
DTSTART:20260426T083000Z
DTEND:20260426T083000Z
LOCATION:Salle des fêtes de Labatut\,09700 Labatut\,France
SUMMARY:Marche du printemps
URL:https://lissac09.fr/index.php?option=com_jem&view=event&id=6:marche-du-
 printemps
END:VEVENT
END:VCALENDAR